BEGIN:VCALENDAR
VERSION:2.0
PRODID:-//PYVOBJECT//NONSGML Version 0.9.9//EN
X-WR-TIMEZONE:Africa/Johannesburg
BEGIN:VTIMEZONE
TZID:Africa/Johannesburg
BEGIN:STANDARD
DTSTART:20000101T000000
RRULE:FREQ=YEARLY;BYMONTH=1
TZNAME:SAST
TZOFFSETFROM:+0200
TZOFFSETTO:+0200
END:STANDARD
END:VTIMEZONE
BEGIN:VEVENT
UID:20260425T183913Z - 98144@eos-content
DTSTART;TZID=Africa/Johannesburg:20260426T110000
DTEND;TZID=Africa/Johannesburg:20260426T140000
ATTENDEE:MAILTO:tarryn.mackay@harcourts.co.za
ATTENDEE:MAILTO:daphne.mackay@harcourts.co.za
DESCRIPTION:https://www.harcourts.co.za/results/residential/for-sale/hartbe
 espoort/the-coves/house/2931759/241-fish-eagles-crescent/\n\nContact Daphn
 e MacKay on 082 445 8799 to arrange access to The Coves Estate.\n\nTarryn 
 Mackay (083 391 5683)\n\nDaphne Mackay (082 445 8799)
DTSTAMP:20260425T183913Z
LOCATION:241 Fish Eagle's Crescent\, The Coves\, Hartbeespoort
SUMMARY:Harcourts South Africa Show Day - RL52665
END:VEVENT
END:VCALENDAR
