BEGIN:VCALENDAR
VERSION:2.0
PRODID:-//PYVOBJECT//NONSGML Version 0.9.9//EN
X-WR-TIMEZONE:Africa/Johannesburg
BEGIN:VTIMEZONE
TZID:Africa/Johannesburg
BEGIN:STANDARD
DTSTART:20000101T000000
RRULE:FREQ=YEARLY;BYMONTH=1
TZNAME:SAST
TZOFFSETFROM:+0200
TZOFFSETTO:+0200
END:STANDARD
END:VTIMEZONE
BEGIN:VEVENT
UID:20260419T095234Z - 76233@eos-content
DTSTART;TZID=Africa/Johannesburg:20260426T120000
DTEND;TZID=Africa/Johannesburg:20260426T140000
ATTENDEE:MAILTO:maria.vanbiljon@harcourts.co.za
DESCRIPTION:https://www.harcourts.co.za/results/residential/for-sale/vander
 bijlpark/vanderbijlpark-cw-6/freehold/3020204/33-bessemer/\n\n33 Bessemer 
 street Vanderbijlpark\n\nMaria Van Biljon (069 645 3823)
DTSTAMP:20260419T095234Z
LOCATION:33 Bessemer\, Vanderbijlpark CW 6\, Vanderbijlpark
SUMMARY:Harcourts South Africa Show Day - RL57178
END:VEVENT
END:VCALENDAR
