BEGIN:VCALENDAR
VERSION:2.0
PRODID:-//PYVOBJECT//NONSGML Version 0.9.9//EN
X-WR-TIMEZONE:Africa/Johannesburg
BEGIN:VTIMEZONE
TZID:Africa/Johannesburg
BEGIN:STANDARD
DTSTART:20000101T000000
RRULE:FREQ=YEARLY;BYMONTH=1
TZNAME:SAST
TZOFFSETFROM:+0200
TZOFFSETTO:+0200
END:STANDARD
END:VTIMEZONE
BEGIN:VEVENT
UID:20260425T171354Z - 71733@eos-content
DTSTART;TZID=Africa/Johannesburg:20260425T100000
DTEND;TZID=Africa/Johannesburg:20260425T110000
ATTENDEE:MAILTO:teresa.vdm@harcourts.co.za
ATTENDEE:MAILTO:renier.vdm@harcourts.co.za
DESCRIPTION:https://www.harcourts.co.za/results/residential/for-sale/umkoma
 as/naidooville/freestanding/3098040/\n\nHead toward R102\n\n2 sec (9 m)
 \n\nTurn left onto R102\n\n3 min (2.7 km)\n\n\nGet on N2\n2 min (1.7
  km)\n\n\nFollow N2 to Craigieburn. Take exit 117 from N2\n4 min (6.9 k
 m)\n\n\nTake Dahlia Rd to Yellowwood St in Naidooville\n2 min (1.5 km)\
 n10 Yellowwood St\nNaidooville\, Craigieburn\, 4170\n\nTeresa Van Der Merw
 e (082 491 3270)\n\nRenier Van Der Merwe (082 886 7977)
DTSTAMP:20260425T171354Z
LOCATION:Naidooville\, Umkomaas
SUMMARY:Harcourts South Africa Show Day - RL60901
END:VEVENT
END:VCALENDAR
