BEGIN:VCALENDAR
VERSION:2.0
PRODID:-//PYVOBJECT//NONSGML Version 0.9.9//EN
X-WR-TIMEZONE:Africa/Johannesburg
BEGIN:VTIMEZONE
TZID:Africa/Johannesburg
BEGIN:STANDARD
DTSTART:20000101T000000
RRULE:FREQ=YEARLY;BYMONTH=1
TZNAME:SAST
TZOFFSETFROM:+0200
TZOFFSETTO:+0200
END:STANDARD
END:VTIMEZONE
BEGIN:VEVENT
UID:20260425T165447Z - 98460@eos-content
DTSTART;TZID=Africa/Johannesburg:20260425T140000
DTEND;TZID=Africa/Johannesburg:20260425T150000
ATTENDEE:MAILTO:willis.coetzee@harcourts.co.za
DESCRIPTION:https://www.harcourts.co.za/results/residential/for-sale/somers
 et-west/kelderhof-country-village/gated-estate/3103036/\n\n77 Royal avenue
 \, Kelderhof\nBY APPOINTMENT ONLY\n\nWillis Coetzee (083 269 1014)
DTSTAMP:20260425T165447Z
LOCATION:Kelderhof Country Village\, Somerset West
SUMMARY:Harcourts South Africa Show Day - RL60984
END:VEVENT
END:VCALENDAR
