BEGIN:VCALENDAR
VERSION:2.0
PRODID:-//PYVOBJECT//NONSGML Version 0.9.9//EN
X-WR-TIMEZONE:Africa/Johannesburg
BEGIN:VTIMEZONE
TZID:Africa/Johannesburg
BEGIN:STANDARD
DTSTART:20000101T000000
RRULE:FREQ=YEARLY;BYMONTH=1
TZNAME:SAST
TZOFFSETFROM:+0200
TZOFFSETTO:+0200
END:STANDARD
END:VTIMEZONE
BEGIN:VEVENT
UID:20260420T121716Z - 73382@eos-content
DTSTART;TZID=Africa/Johannesburg:20260424T170000
DTEND;TZID=Africa/Johannesburg:20260424T180000
ATTENDEE:MAILTO:jeanette.reinach@harcourts.co.za
DESCRIPTION:https://www.harcourts.co.za/results/residential/for-sale/centur
 ion/amberfield/house/3144282/\n\nCall agent for Directions\n\nJeanette Rei
 nach (084 209 5487)
DTSTAMP:20260420T121716Z
LOCATION:Amberfield\, Centurion
SUMMARY:Harcourts South Africa Show Day - RL63392
END:VEVENT
END:VCALENDAR
