BEGIN:VCALENDAR
VERSION:2.0
PRODID:-//PYVOBJECT//NONSGML Version 0.9.9//EN
X-WR-TIMEZONE:Africa/Johannesburg
BEGIN:VTIMEZONE
TZID:Africa/Johannesburg
BEGIN:STANDARD
DTSTART:20000101T000000
RRULE:FREQ=YEARLY;BYMONTH=1
TZNAME:SAST
TZOFFSETFROM:+0200
TZOFFSETTO:+0200
END:STANDARD
END:VTIMEZONE
BEGIN:VEVENT
UID:20260421T182317Z - 26699@eos-content
DTSTART;TZID=Africa/Johannesburg:20260425T110000
DTEND;TZID=Africa/Johannesburg:20260425T120000
ATTENDEE:MAILTO:keegan.eagar@harcourts.co.za
ATTENDEE:MAILTO:lauren.eagar@harcourts.co.za
DESCRIPTION:https://www.harcourts.co.za/results/residential/for-sale/langeb
 aan/langebaan-country-estate/apartment/3147334/112-ss-ellefsen-golf-suites
 -153-ellefsen-crescent/\n\nhttps://maps.app.goo.gl/gAmjyGL8We7oprpbA\n\nCa
 ll Keegan for an access code @ 061 528 2081\n\nKeegan Eagar (061 528 2081)
 \n\nLauren Eagar (061 527 7883)
DTSTAMP:20260421T182317Z
LOCATION:112 SS ELLEFSEN GOLF SUITES\, 153 Ellefsen Crescent\, Langebaan Co
 untry Estate\, Langebaan
SUMMARY:Harcourts South Africa Show Day - RL63557
END:VEVENT
END:VCALENDAR
