BEGIN:VCALENDAR
VERSION:2.0
PRODID:-//PYVOBJECT//NONSGML Version 0.9.9//EN
X-WR-TIMEZONE:Africa/Johannesburg
BEGIN:VTIMEZONE
TZID:Africa/Johannesburg
BEGIN:STANDARD
DTSTART:20000101T000000
RRULE:FREQ=YEARLY;BYMONTH=1
TZNAME:SAST
TZOFFSETFROM:+0200
TZOFFSETTO:+0200
END:STANDARD
END:VTIMEZONE
BEGIN:VEVENT
UID:20260424T103135Z - 97734@eos-content
DTSTART;TZID=Africa/Johannesburg:20260425T110000
DTEND;TZID=Africa/Johannesburg:20260425T120000
ATTENDEE:MAILTO:david.moafo@harcourts.co.za
DESCRIPTION:https://www.harcourts.co.za/results/residential/for-sale/bloube
 rg/parklands/duplex/3150837/\n\n3 callington crescent Parklands\n\nDavid M
 oafo (071 220 3473)
DTSTAMP:20260424T103135Z
LOCATION:Parklands\, Blouberg
SUMMARY:Harcourts South Africa Show Day - RL63733
END:VEVENT
END:VCALENDAR
